BEGIN:VCALENDAR
VERSION:2.0
PRODID:-//NSAV &#039;t Haasje - ECPv6.13.2.1//NONSGML v1.0//EN
CALSCALE:GREGORIAN
METHOD:PUBLISH
X-WR-CALNAME:NSAV &#039;t Haasje
X-ORIGINAL-URL:https://haasjeatletiek.nl
X-WR-CALDESC:Evenementen voor NSAV &#039;t Haasje
REFRESH-INTERVAL;VALUE=DURATION:PT1H
X-Robots-Tag:noindex
X-PUBLISHED-TTL:PT1H
BEGIN:VTIMEZONE
TZID:Europe/Amsterdam
BEGIN:DAYLIGHT
TZOFFSETFROM:+0100
TZOFFSETTO:+0200
TZNAME:CEST
DTSTART:20260329T010000
END:DAYLIGHT
BEGIN:STANDARD
TZOFFSETFROM:+0200
TZOFFSETTO:+0100
TZNAME:CET
DTSTART:20261025T010000
END:STANDARD
END:VTIMEZONE
BEGIN:VEVENT
DTSTART;TZID=Europe/Amsterdam:20260423T230000
DTEND;TZID=Europe/Amsterdam:20260424T040000
DTSTAMP:20260424T190603
CREATED:20251125T162713Z
LAST-MODIFIED:20260416T141620Z
UID:13249-1776985200-1777003200@haasjeatletiek.nl
SUMMARY:Pitcherparty
DESCRIPTION:Bi ba boe\, bi ba boe\nWelkom op de Bi ba boe\nDe bi ba boerderij pi pa Pitcherparty\n’t’is hier heel gezellig dus kom er lekker bij \nOp 23 april van 23:00 tot 04:00 is de bi ba boerderij Pitcherparty in de pi pa professor. Samen met BeeVee\, sPiN\, FC Sophia\, KUNST en ‘t Haasje maken we er een echte beestenboel van!\nDe tickets zullen 4 euro zijn\, waarvan een deel via stichting RAGweek naar het goede doel zal gaan!! \nTot ziens op de biba\, we zien je op de biba\,\nDe biba boerderij pi pa Pitcherparty!
URL:https://haasjeatletiek.nl/evenementen/pitcherparty/
END:VEVENT
END:VCALENDAR